BEGIN:VCALENDAR
VERSION:2.0
PRODID:-//Registry Tampa Bay - ECPv6.15.20//NONSGML v1.0//EN
CALSCALE:GREGORIAN
METHOD:PUBLISH
X-WR-CALNAME:Registry Tampa Bay
X-ORIGINAL-URL:https://registrytampabay.com
X-WR-CALDESC:Events for Registry Tampa Bay
REFRESH-INTERVAL;VALUE=DURATION:PT1H
X-Robots-Tag:noindex
X-PUBLISHED-TTL:PT1H
BEGIN:VTIMEZONE
TZID:America/New_York
BEGIN:DAYLIGHT
TZOFFSETFROM:-0500
TZOFFSETTO:-0400
TZNAME:EDT
DTSTART:20220313T070000
END:DAYLIGHT
BEGIN:STANDARD
TZOFFSETFROM:-0400
TZOFFSETTO:-0500
TZNAME:EST
DTSTART:20221106T060000
END:STANDARD
BEGIN:DAYLIGHT
TZOFFSETFROM:-0500
TZOFFSETTO:-0400
TZNAME:EDT
DTSTART:20230312T070000
END:DAYLIGHT
BEGIN:STANDARD
TZOFFSETFROM:-0400
TZOFFSETTO:-0500
TZNAME:EST
DTSTART:20231105T060000
END:STANDARD
BEGIN:DAYLIGHT
TZOFFSETFROM:-0500
TZOFFSETTO:-0400
TZNAME:EDT
DTSTART:20240310T070000
END:DAYLIGHT
BEGIN:STANDARD
TZOFFSETFROM:-0400
TZOFFSETTO:-0500
TZNAME:EST
DTSTART:20241103T060000
END:STANDARD
END:VTIMEZONE
BEGIN:VEVENT
DTSTART;VALUE=DATE:20230629
DTEND;VALUE=DATE:20230701
DTSTAMP:20260419T133407
CREATED:20230620T212850Z
LAST-MODIFIED:20240613T180508Z
UID:56296-1688068800-1688155199@registrytampabay.com
SUMMARY:Open House- Habitat For Humanity
DESCRIPTION:Habitat Admin HQ Expansion Open House\nCelebrate with us as we complete a record-breaking fiscal year with 73 new homes constructed in our community! \nPlease join us at our newly expanded administrative headquarters. Enjoy refreshments\, networking and tours of the new addition of offices\, meeting and collaboration space for the Habitat team and community. \n\nLocation\n\n14014 Roosevelt Blvd 14014 Roosevelt Boulevard Suite 704 Clearwater\, FL 33762 \nEvent link
URL:https://registrytampabay.com/event/open-house-habitat-for-humanity/
ATTACH;FMTTYPE=image/jpeg:https://registrytampabay.com/wp-content/uploads/2024/06/OpenHouse_Invite_6.30.jpeg
END:VEVENT
END:VCALENDAR