BEGIN:VCALENDAR
VERSION:2.0
PRODID:-//Registry Tampa Bay - ECPv6.15.20//NONSGML v1.0//EN
CALSCALE:GREGORIAN
METHOD:PUBLISH
X-ORIGINAL-URL:https://registrytampabay.com
X-WR-CALDESC:Events for Registry Tampa Bay
REFRESH-INTERVAL;VALUE=DURATION:PT1H
X-Robots-Tag:noindex
X-PUBLISHED-TTL:PT1H
BEGIN:VTIMEZONE
TZID:America/New_York
BEGIN:DAYLIGHT
TZOFFSETFROM:-0500
TZOFFSETTO:-0400
TZNAME:EDT
DTSTART:20230312T070000
END:DAYLIGHT
BEGIN:STANDARD
TZOFFSETFROM:-0400
TZOFFSETTO:-0500
TZNAME:EST
DTSTART:20231105T060000
END:STANDARD
BEGIN:DAYLIGHT
TZOFFSETFROM:-0500
TZOFFSETTO:-0400
TZNAME:EDT
DTSTART:20240310T070000
END:DAYLIGHT
BEGIN:STANDARD
TZOFFSETFROM:-0400
TZOFFSETTO:-0500
TZNAME:EST
DTSTART:20241103T060000
END:STANDARD
BEGIN:DAYLIGHT
TZOFFSETFROM:-0500
TZOFFSETTO:-0400
TZNAME:EDT
DTSTART:20250309T070000
END:DAYLIGHT
BEGIN:STANDARD
TZOFFSETFROM:-0400
TZOFFSETTO:-0500
TZNAME:EST
DTSTART:20251102T060000
END:STANDARD
END:VTIMEZONE
BEGIN:VEVENT
DTSTART;TZID=America/New_York:20241108T110000
DTEND;TZID=America/New_York:20241108T123000
DTSTAMP:20260425T081724
CREATED:20241103T232014Z
LAST-MODIFIED:20241103T232014Z
UID:65002-1731063600-1731069000@registrytampabay.com
SUMMARY:Carrollwood Day School Community Engagement Fair
DESCRIPTION:Connect with students\, staff and parents who WANT to volunteer! \nYou are invited to join us and share information about your agency\, the services you provide\, and ways you utilize volunteers.  You can “recruit” for an upcoming large project or event\, or share information about ongoing volunteer needs. \nTables and chairs will be furnished and our wonderful food service staff will provide lunch.
URL:https://registrytampabay.com/event/carrollwood-day-school-community-engagement-fair/
LOCATION:Carrollwood Day School
END:VEVENT
END:VCALENDAR