BEGIN:VCALENDAR
VERSION:2.0
PRODID:-//Registry Tampa Bay - ECPv6.15.20//NONSGML v1.0//EN
CALSCALE:GREGORIAN
METHOD:PUBLISH
X-ORIGINAL-URL:https://registrytampabay.com
X-WR-CALDESC:Events for Registry Tampa Bay
REFRESH-INTERVAL;VALUE=DURATION:PT1H
X-Robots-Tag:noindex
X-PUBLISHED-TTL:PT1H
BEGIN:VTIMEZONE
TZID:America/New_York
BEGIN:DAYLIGHT
TZOFFSETFROM:-0500
TZOFFSETTO:-0400
TZNAME:EDT
DTSTART:20230312T070000
END:DAYLIGHT
BEGIN:STANDARD
TZOFFSETFROM:-0400
TZOFFSETTO:-0500
TZNAME:EST
DTSTART:20231105T060000
END:STANDARD
BEGIN:DAYLIGHT
TZOFFSETFROM:-0500
TZOFFSETTO:-0400
TZNAME:EDT
DTSTART:20240310T070000
END:DAYLIGHT
BEGIN:STANDARD
TZOFFSETFROM:-0400
TZOFFSETTO:-0500
TZNAME:EST
DTSTART:20241103T060000
END:STANDARD
BEGIN:DAYLIGHT
TZOFFSETFROM:-0500
TZOFFSETTO:-0400
TZNAME:EDT
DTSTART:20250309T070000
END:DAYLIGHT
BEGIN:STANDARD
TZOFFSETFROM:-0400
TZOFFSETTO:-0500
TZNAME:EST
DTSTART:20251102T060000
END:STANDARD
END:VTIMEZONE
BEGIN:VEVENT
DTSTART;TZID=America/New_York:20241116T190000
DTEND;TZID=America/New_York:20241116T220000
DTSTAMP:20260423T045431
CREATED:20240819T223935Z
LAST-MODIFIED:20240819T223935Z
UID:64167-1731783600-1731794400@registrytampabay.com
SUMMARY:Her Gala
DESCRIPTION:A Starry Night — “Be the light”\, at the Hilton Carillon St. Pete!  This very special evening aims to support the EmpowHERment Community Center and our essential community work\,  that makes a difference in lives of countless women across the Tampa Bay region.  This special event highlights and sustains the impactful initiatives we champion throughout the year.  \n\n\n\n\n\n\n\nExciting Live and Silent Auctions \n\n\nEndless Delectable Hors D’oeuvres \n\n\nOpen Bar and HER Signature Cocktails \n\n\nInspirational speakers who have directly benefited from your support \n\n\nCELEBRATIONS and JOY – and DANCING! A Live DJ\, Photo Booth\, conversations and a few extra surprises you don’t want to miss
URL:https://registrytampabay.com/event/her-gala/
LOCATION:Hilton St. Pete
ATTACH;FMTTYPE=image/webp:https://registrytampabay.com/wp-content/uploads/2024/08/HER-Gala-2024-Donor-Box-Header.webp
END:VEVENT
END:VCALENDAR