BEGIN:VCALENDAR
VERSION:2.0
PRODID:-//Registry Tampa Bay - ECPv6.15.20//NONSGML v1.0//EN
CALSCALE:GREGORIAN
METHOD:PUBLISH
X-ORIGINAL-URL:https://registrytampabay.com
X-WR-CALDESC:Events for Registry Tampa Bay
REFRESH-INTERVAL;VALUE=DURATION:PT1H
X-Robots-Tag:noindex
X-PUBLISHED-TTL:PT1H
BEGIN:VTIMEZONE
TZID:America/New_York
BEGIN:DAYLIGHT
TZOFFSETFROM:-0500
TZOFFSETTO:-0400
TZNAME:EDT
DTSTART:20230312T070000
END:DAYLIGHT
BEGIN:STANDARD
TZOFFSETFROM:-0400
TZOFFSETTO:-0500
TZNAME:EST
DTSTART:20231105T060000
END:STANDARD
BEGIN:DAYLIGHT
TZOFFSETFROM:-0500
TZOFFSETTO:-0400
TZNAME:EDT
DTSTART:20240310T070000
END:DAYLIGHT
BEGIN:STANDARD
TZOFFSETFROM:-0400
TZOFFSETTO:-0500
TZNAME:EST
DTSTART:20241103T060000
END:STANDARD
BEGIN:DAYLIGHT
TZOFFSETFROM:-0500
TZOFFSETTO:-0400
TZNAME:EDT
DTSTART:20250309T070000
END:DAYLIGHT
BEGIN:STANDARD
TZOFFSETFROM:-0400
TZOFFSETTO:-0500
TZNAME:EST
DTSTART:20251102T060000
END:STANDARD
END:VTIMEZONE
BEGIN:VEVENT
DTSTART;TZID=America/New_York:20241122T180000
DTEND;TZID=America/New_York:20241124T220000
DTSTAMP:20260421T030206
CREATED:20241120T153038Z
LAST-MODIFIED:20241120T153038Z
UID:65225-1732298400-1732485600@registrytampabay.com
SUMMARY:2024 Festival of Trees
DESCRIPTION:Join us for the 40th Anniversary of the Festival of the Trees. Celebrate with us and stroll around the park\, featuring local vendors\, entertainment\, food\, and pictures with Santa.
URL:https://registrytampabay.com/event/2024-festival-of-trees/
ATTACH;FMTTYPE=image/jpeg:https://registrytampabay.com/wp-content/uploads/2024/11/Schedule-1.jpg
END:VEVENT
BEGIN:VEVENT
DTSTART;TZID=America/New_York:20241123T180000
DTEND;TZID=America/New_York:20241123T220000
DTSTAMP:20260421T030206
CREATED:20241107T023028Z
LAST-MODIFIED:20241107T023028Z
UID:65077-1732384800-1732399200@registrytampabay.com
SUMMARY:Monopoly® Night 2024
DESCRIPTION:Saturday\, November 23\, 2024 with Celebrity Host & Auctioneer Aaron Fodiman \n6:00PM ~ Opulent Dinner\n7:30PM ~ The Games Begin\n8:20PM ~ Intermission & Live Auction 9:45PM ~ Winners Announced\, Coffee & Dessert \nLocated at the: Belleair Country Club \nOne Country Club Lane // Belleair\, Florida \nCash Bar ~ Fabulous Auction Items ~ Evening Casual \nPRESENTED BY \nDr. William and Toni Blackshear \n— and — \nCourt St Marketplace
URL:https://registrytampabay.com/event/monopoly-night-2024/
LOCATION:Belleair Country Club
ATTACH;FMTTYPE=image/png:https://registrytampabay.com/wp-content/uploads/2024/11/Screenshot-2024-11-06-at-9.26.42 PM.png
END:VEVENT
END:VCALENDAR