BEGIN:VCALENDAR
VERSION:2.0
PRODID:-//Registry Tampa Bay - ECPv6.15.20//NONSGML v1.0//EN
CALSCALE:GREGORIAN
METHOD:PUBLISH
X-WR-CALNAME:Registry Tampa Bay
X-ORIGINAL-URL:https://registrytampabay.com
X-WR-CALDESC:Events for Registry Tampa Bay
REFRESH-INTERVAL;VALUE=DURATION:PT1H
X-Robots-Tag:noindex
X-PUBLISHED-TTL:PT1H
BEGIN:VTIMEZONE
TZID:America/New_York
BEGIN:DAYLIGHT
TZOFFSETFROM:-0500
TZOFFSETTO:-0400
TZNAME:EDT
DTSTART:20230312T070000
END:DAYLIGHT
BEGIN:STANDARD
TZOFFSETFROM:-0400
TZOFFSETTO:-0500
TZNAME:EST
DTSTART:20231105T060000
END:STANDARD
BEGIN:DAYLIGHT
TZOFFSETFROM:-0500
TZOFFSETTO:-0400
TZNAME:EDT
DTSTART:20240310T070000
END:DAYLIGHT
BEGIN:STANDARD
TZOFFSETFROM:-0400
TZOFFSETTO:-0500
TZNAME:EST
DTSTART:20241103T060000
END:STANDARD
BEGIN:DAYLIGHT
TZOFFSETFROM:-0500
TZOFFSETTO:-0400
TZNAME:EDT
DTSTART:20250309T070000
END:DAYLIGHT
BEGIN:STANDARD
TZOFFSETFROM:-0400
TZOFFSETTO:-0500
TZNAME:EST
DTSTART:20251102T060000
END:STANDARD
END:VTIMEZONE
BEGIN:VEVENT
DTSTART;TZID=America/New_York:20241218T103000
DTEND;TZID=America/New_York:20241218T130000
DTSTAMP:20260421T011839
CREATED:20241224T024136Z
LAST-MODIFIED:20241224T024136Z
UID:65589-1734517800-1734526800@registrytampabay.com
SUMMARY:VIP² Holiday Party for visually impaired children
DESCRIPTION:Lions World Vision Institute (LWVI) is proud to announce the return of its beloved VIP² Holiday Party for Very Important People who are Visually Impaired People. \nAs the nation’s largest cornea recovery non-profit\, LWVI provides the gift of sight for recipients across the country and around the world. The LWVI Foundation is dedicated to advancing pediatric vision initiatives\, supporting visually impaired children and their families through year-round programs and resources. Together\, these efforts reflect a shared mission to improve vision and transform lives worldwide.
URL:https://registrytampabay.com/event/vip%c2%b2-holiday-party-for-visually-impaired-children/
LOCATION:Lions World Vision Institute
END:VEVENT
END:VCALENDAR