BEGIN:VCALENDAR
VERSION:2.0
PRODID:-//Registry Tampa Bay - ECPv6.15.20//NONSGML v1.0//EN
CALSCALE:GREGORIAN
METHOD:PUBLISH
X-ORIGINAL-URL:https://registrytampabay.com
X-WR-CALDESC:Events for Registry Tampa Bay
REFRESH-INTERVAL;VALUE=DURATION:PT1H
X-Robots-Tag:noindex
X-PUBLISHED-TTL:PT1H
BEGIN:VTIMEZONE
TZID:America/New_York
BEGIN:DAYLIGHT
TZOFFSETFROM:-0500
TZOFFSETTO:-0400
TZNAME:EDT
DTSTART:20250309T070000
END:DAYLIGHT
BEGIN:STANDARD
TZOFFSETFROM:-0400
TZOFFSETTO:-0500
TZNAME:EST
DTSTART:20251102T060000
END:STANDARD
BEGIN:DAYLIGHT
TZOFFSETFROM:-0500
TZOFFSETTO:-0400
TZNAME:EDT
DTSTART:20260308T070000
END:DAYLIGHT
BEGIN:STANDARD
TZOFFSETFROM:-0400
TZOFFSETTO:-0500
TZNAME:EST
DTSTART:20261101T060000
END:STANDARD
BEGIN:DAYLIGHT
TZOFFSETFROM:-0500
TZOFFSETTO:-0400
TZNAME:EDT
DTSTART:20270314T070000
END:DAYLIGHT
BEGIN:STANDARD
TZOFFSETFROM:-0400
TZOFFSETTO:-0500
TZNAME:EST
DTSTART:20271107T060000
END:STANDARD
END:VTIMEZONE
BEGIN:VEVENT
DTSTART;TZID=America/New_York:20260226T183000
DTEND;TZID=America/New_York:20260226T203000
DTSTAMP:20260425T100055
CREATED:20250930T191653Z
LAST-MODIFIED:20250930T192725Z
UID:68887-1772130600-1772137800@registrytampabay.com
SUMMARY:Reeling in Stigma
DESCRIPTION:The 6th Annual Reeling in Stigma\, hosted by Love IV Lawrence\, a fund at Community Foundation Tampa Bay\, is a mental health awareness event uniting community members\, advocates\, and changemakers for an evening of powerful storytelling\, connection\, and hope. \nThis year’s event features keynote speaker Johnny Crowder—a nationally recognized mental health advocate\, TEDx speaker\, touring musician\, and founder of Cope Notes. \nPlease join us as we challenge stigma\, amplify voices\, and build a more compassionate\, connected\, and mentally healthy community.
URL:https://registrytampabay.com/event/reeling-in-stigma/
LOCATION:FloridaRAMA
CATEGORIES:Health & Wellness
ATTACH;FMTTYPE=image/png:https://registrytampabay.com/wp-content/uploads/2025/09/Screenshot-2025-09-30-at-3.16.01-PM.png
END:VEVENT
END:VCALENDAR