BEGIN:VCALENDAR
VERSION:2.0
PRODID:-//Registry Tampa Bay - ECPv6.15.20//NONSGML v1.0//EN
CALSCALE:GREGORIAN
METHOD:PUBLISH
X-WR-CALNAME:Registry Tampa Bay
X-ORIGINAL-URL:https://registrytampabay.com
X-WR-CALDESC:Events for Registry Tampa Bay
REFRESH-INTERVAL;VALUE=DURATION:PT1H
X-Robots-Tag:noindex
X-PUBLISHED-TTL:PT1H
BEGIN:VTIMEZONE
TZID:America/New_York
BEGIN:DAYLIGHT
TZOFFSETFROM:-0500
TZOFFSETTO:-0400
TZNAME:EDT
DTSTART:20250309T070000
END:DAYLIGHT
BEGIN:STANDARD
TZOFFSETFROM:-0400
TZOFFSETTO:-0500
TZNAME:EST
DTSTART:20251102T060000
END:STANDARD
BEGIN:DAYLIGHT
TZOFFSETFROM:-0500
TZOFFSETTO:-0400
TZNAME:EDT
DTSTART:20260308T070000
END:DAYLIGHT
BEGIN:STANDARD
TZOFFSETFROM:-0400
TZOFFSETTO:-0500
TZNAME:EST
DTSTART:20261101T060000
END:STANDARD
BEGIN:DAYLIGHT
TZOFFSETFROM:-0500
TZOFFSETTO:-0400
TZNAME:EDT
DTSTART:20270314T070000
END:DAYLIGHT
BEGIN:STANDARD
TZOFFSETFROM:-0400
TZOFFSETTO:-0500
TZNAME:EST
DTSTART:20271107T060000
END:STANDARD
END:VTIMEZONE
BEGIN:VEVENT
DTSTART;VALUE=DATE:20260317
DTEND;VALUE=DATE:20260323
DTSTAMP:20260425T114249
CREATED:20250715T114419Z
LAST-MODIFIED:20260317T161456Z
UID:67914-1773705600-1774223999@registrytampabay.com
SUMMARY:Valspar: The Most Colorful PGA TOUR® Tournament in the World
DESCRIPTION:The Valspar Championship brings the world’s top-ranked golfers and unforgettable fan experiences to the Copperhead Course at Innisbrook Golf Resort\, a Salamander Golf & Spa Resort. Fans of all ages can enjoy four rounds of championship golf and a variety of on-site activities. \n\n\nThe 2026 Valspar Championship marks 50 years of Copperhead Charities and 25 years of PGA TOUR® golf in Tampa Bay. Join the celebration in the months leading up to the tournament and throughout tournament week with special activations\, on-course surprises and milestone moments shared across our social channels. \n\n\nNamed the PGA TOUR’s most “Fan-First Tournament\,” the Valspar Championship offers a variety of public experiences\, including the Michelob ULTRA Club (10th tee)\, Frenchy’s Pool Party (near the 18th green)\, Cabot Cheese Deck (13th green) and Famous Tate Fan Seating (18th green). \n\n\nDon’t miss country stars Tyler Hubbard and Lee Brice as they co-headline Valspar® LIVE presented by Chick-fil-A on Saturday\, March 21\, following play at approximately 6:30 p.m. Concert access is included with your Saturday tournament ticket — no additional purchase required. \n\n\nAll week long\, children 15 and under are admitted free to the grounds with a paid adult. \n\n\nGet ready for a week full of elite competition\, vibrant energy and can’t-miss moments both on and off the course!” \n\n\n 
URL:https://registrytampabay.com/event/valspar-championship-march-16-22-2026/
LOCATION:Innisbrook Resort
CATEGORIES:Golf
ATTACH;FMTTYPE=image/jpeg:https://registrytampabay.com/wp-content/uploads/2025/07/ViktorHovland_getty2206566355_wLogos-scaled.jpg
END:VEVENT
END:VCALENDAR