BEGIN:VCALENDAR
VERSION:2.0
PRODID:-//Registry Tampa Bay - ECPv6.15.20//NONSGML v1.0//EN
CALSCALE:GREGORIAN
METHOD:PUBLISH
X-WR-CALNAME:Registry Tampa Bay
X-ORIGINAL-URL:https://registrytampabay.com
X-WR-CALDESC:Events for Registry Tampa Bay
REFRESH-INTERVAL;VALUE=DURATION:PT1H
X-Robots-Tag:noindex
X-PUBLISHED-TTL:PT1H
BEGIN:VTIMEZONE
TZID:America/New_York
BEGIN:DAYLIGHT
TZOFFSETFROM:-0500
TZOFFSETTO:-0400
TZNAME:EDT
DTSTART:20250309T070000
END:DAYLIGHT
BEGIN:STANDARD
TZOFFSETFROM:-0400
TZOFFSETTO:-0500
TZNAME:EST
DTSTART:20251102T060000
END:STANDARD
BEGIN:DAYLIGHT
TZOFFSETFROM:-0500
TZOFFSETTO:-0400
TZNAME:EDT
DTSTART:20260308T070000
END:DAYLIGHT
BEGIN:STANDARD
TZOFFSETFROM:-0400
TZOFFSETTO:-0500
TZNAME:EST
DTSTART:20261101T060000
END:STANDARD
BEGIN:DAYLIGHT
TZOFFSETFROM:-0500
TZOFFSETTO:-0400
TZNAME:EDT
DTSTART:20270314T070000
END:DAYLIGHT
BEGIN:STANDARD
TZOFFSETFROM:-0400
TZOFFSETTO:-0500
TZNAME:EST
DTSTART:20271107T060000
END:STANDARD
END:VTIMEZONE
BEGIN:VEVENT
DTSTART;TZID=America/New_York:20260502T183000
DTEND;TZID=America/New_York:20260502T203000
DTSTAMP:20260419T110423
CREATED:20260414T182915Z
LAST-MODIFIED:20260414T182915Z
UID:71032-1777746600-1777753800@registrytampabay.com
SUMMARY:Pepin Academies Gallop & Give Derby Social
DESCRIPTION:Join us for Gallop & Give\, an evening inspired by the excitement and tradition of the Kentucky Derby\, benefiting Pepin Academies. Guests will enjoy a festive Derby‑themed celebration featuring signature cocktails\, engaging experiences\, and opportunities to connect with the Pepin community—all in support of students with diverse learning needs. \nFrom the pageantry of Derby Day style to unique interactive moments throughout the evening\, Gallop & Give promises a memorable night of fun\, philanthropy\, and purpose. Proceeds from the event directly support Pepin Academies’ mission to inspire confidence\, foster academic success\, and create meaningful opportunities for our students. \n– Derby‑inspired attire encouraged\n– Signature drinks and experiences\n– A night of celebration for a great cause
URL:https://registrytampabay.com/event/pepin-academies-gallop-give-derby-social/
LOCATION:Egypt Shrine Event Center
CATEGORIES:Charity
ATTACH;FMTTYPE=image/png:https://registrytampabay.com/wp-content/uploads/2026/04/gallop_and_give_header_bloomerang_png-1770840914_large.png
END:VEVENT
BEGIN:VEVENT
DTSTART;TZID=America/New_York:20260502T183000
DTEND;TZID=America/New_York:20260502T223000
DTSTAMP:20260419T110423
CREATED:20260329T180822Z
LAST-MODIFIED:20260329T180822Z
UID:70848-1777746600-1777761000@registrytampabay.com
SUMMARY:Palm Trees and Paws
DESCRIPTION:PLEASE JOIN US: For a fun filled evening with Sara Blakely\, cocktails and culinary delights from Baystar Restaurant Group\, and live entertainment by the Black Honkeys Band. \nBenefitting SPCA TAMPA BAY
URL:https://registrytampabay.com/event/palm-trees-and-paws-2/
CATEGORIES:Charity
END:VEVENT
END:VCALENDAR