BEGIN:VCALENDAR
VERSION:2.0
PRODID:-//Registry Tampa Bay - ECPv6.15.20//NONSGML v1.0//EN
CALSCALE:GREGORIAN
METHOD:PUBLISH
X-WR-CALNAME:Registry Tampa Bay
X-ORIGINAL-URL:https://registrytampabay.com
X-WR-CALDESC:Events for Registry Tampa Bay
REFRESH-INTERVAL;VALUE=DURATION:PT1H
X-Robots-Tag:noindex
X-PUBLISHED-TTL:PT1H
BEGIN:VTIMEZONE
TZID:America/New_York
BEGIN:DAYLIGHT
TZOFFSETFROM:-0500
TZOFFSETTO:-0400
TZNAME:EDT
DTSTART:20250309T070000
END:DAYLIGHT
BEGIN:STANDARD
TZOFFSETFROM:-0400
TZOFFSETTO:-0500
TZNAME:EST
DTSTART:20251102T060000
END:STANDARD
BEGIN:DAYLIGHT
TZOFFSETFROM:-0500
TZOFFSETTO:-0400
TZNAME:EDT
DTSTART:20260308T070000
END:DAYLIGHT
BEGIN:STANDARD
TZOFFSETFROM:-0400
TZOFFSETTO:-0500
TZNAME:EST
DTSTART:20261101T060000
END:STANDARD
BEGIN:DAYLIGHT
TZOFFSETFROM:-0500
TZOFFSETTO:-0400
TZNAME:EDT
DTSTART:20270314T070000
END:DAYLIGHT
BEGIN:STANDARD
TZOFFSETFROM:-0400
TZOFFSETTO:-0500
TZNAME:EST
DTSTART:20271107T060000
END:STANDARD
END:VTIMEZONE
BEGIN:VEVENT
DTSTART;TZID=America/New_York:20260516T180000
DTEND;TZID=America/New_York:20260516T230000
DTSTAMP:20260423T191746
CREATED:20260406T165759Z
LAST-MODIFIED:20260406T170032Z
UID:70934-1778954400-1778972400@registrytampabay.com
SUMMARY:Wishmaker’s Ball
DESCRIPTION:The 2026 Wishmaker’s Ball Tampa promises to be an unforgettable evening of elegance\, inspiration\, and generosity\, held on May 16\, 2026\, at the stunning JW Marriott Tampa Water Street. This signature gala brings together community leaders\, philanthropists\, and supporters of Make-A-Wish Southern Florida to celebrate the life-changing impact of granting wishes to children with critical illnesses. Guests will enjoy a glamorous night featuring a cocktail reception\, gourmet dinner\, live entertainment\, and a spirited auction—all in support of bringing hope and joy to local wish families. \nAs one of the most anticipated fundraising events of the year\, the Wishmaker’s Ball offers a unique opportunity to witness the power of wishes firsthand. Attendees will hear inspiring stories from wish recipients and learn how their support helps transform lives across the Tampa Bay region. With breathtaking views\, heartfelt moments\, and a shared mission to make dreams come true\, the 2026 Wishmaker’s Ball is more than a celebration—it’s a movement of kindness and community coming together to create magic for children who need it most.
URL:https://registrytampabay.com/event/wishmakers-ball/
LOCATION:JW Marriott Tampa Water Street
CATEGORIES:Charity
ATTACH;FMTTYPE=image/avif:https://registrytampabay.com/wp-content/uploads/2026/04/wmb-for-web-site_0.avif
END:VEVENT
BEGIN:VEVENT
DTSTART;TZID=America/New_York:20260516T180000
DTEND;TZID=America/New_York:20260516T233000
DTSTAMP:20260423T191746
CREATED:20260406T172141Z
LAST-MODIFIED:20260406T172141Z
UID:70941-1778954400-1778974200@registrytampabay.com
SUMMARY:Storybook Ball:” Princess and the Frog”
DESCRIPTION:This years Storybook Ball will take place on Saturday\, May 16th with the theme of “Princess & the Frog” and will take place at the Renaissance Tampa International Plaza Hotel. The event promises to be a magical evening with a New Orleans twist\, featuring cocktails\, interactive stations\, a delicious selection of food and live music. The funds raised from the event will support Ronald McDonald House Tampa Bay which is a home away from home that provides comfort\, support\, and resources to families who are receiving life changing medical treatment. \nThe Renaissance Tampa International Plaza Hotel room block is now open! \nBook your group rate for Ronald McDonald House \nGaby Caceres will reach out to you regarding your ad. For any inquiries about your sponsorship ad listing\, you can contact her via email (gcaceres@ronaldmcdonaldhousetb.org). \nClick the link to watch the trailer for Princess & The Frog: The Princess and the Frog – Official Trailer 2009 [HD] \nThe event is formal\, with black tie optional; however\, due to this year’s New Orleans French theme\, lighter-colored formal suits are encouraged for men\, and beautiful colors are recommended for ladies. Click to view our for ideas. \nRegistration and Cocktail Reception begin at 6 pm\, followed by dinner\, live auction\, and dancing till 11:30 p.m. \nThe funds raised from the event will support Ronald McDonald House Tampa Bay which is a home away from home that provides comfort\, support\, and resources to families who are receiving life changing medical treatment. \nIf you’re interested in becoming a sponsor for the 2026 Storybook Ball\, please complete the registration form on the next page.
URL:https://registrytampabay.com/event/storybook-ball-princess-and-the-frog/
LOCATION:Renaissance Tampa International Plaza Hotel
CATEGORIES:Charity
ATTACH;FMTTYPE=image/png:https://registrytampabay.com/wp-content/uploads/2026/04/Screenshot-2026-04-06-at-1.21.15-PM.png
END:VEVENT
BEGIN:VEVENT
DTSTART;TZID=America/New_York:20260520T073000
DTEND;TZID=America/New_York:20260520T090000
DTSTAMP:20260423T191746
CREATED:20260422T152123Z
LAST-MODIFIED:20260422T152123Z
UID:71167-1779262200-1779267600@registrytampabay.com
SUMMARY:2026 Q2 Power Breakfast: Cathie Wood\, Founder and CEO\, ARK Invest
DESCRIPTION:Cathie Wood is the founder\, CEO and chief investment officer of ARK Invest\, an investment management firm known for its focus on disruptive innovation and emerging technologies. She launched ARK Invest in 2014 with a mission to provide investors access to companies driving transformative change across sectors such as artificial intelligence\, robotics\, genomics\, fintech and energy storage. \nWood is widely recognized for her forward-looking investment strategies and research-driven approach\, gaining global attention for early\, high-conviction investments in innovative growth companies. Prior to founding ARK\, she held senior investment leadership roles at several major financial firms\, building decades of experience in portfolio management and economic research. \nNetwork with:\n67% of attendees are decision-makers (CEO\, President\, Owner\, Exec. Director\, VP)\n26% companies with $10-$100M annual revenue\n21% companies with $100M-$1B annual revenue\n16% companies with $1B+ annual revenue \nAttendee Industry Mix:\nBroad range including\, Financial and Professional Services\, Construction\, Real Estate\, Manufacturing\, Healthcare and Education. \nEvent agenda:\n7:30am – networking/breakfast buffet\n8:00am – opening remarks/program begins\n9:00am – closing remarks/post event networking\n9:15am – event concludes \nAttire: Business professional/Business casual \nTickets are non-refundable\, however we are happy to transfer your ticket.  Please contact Michelle Loucks at mloucks@bizjournals.com to inquire about a ticket transfer if needed.
URL:https://registrytampabay.com/event/2026-q2-power-breakfast-cathie-wood-founder-and-ceo-ark-invest/
LOCATION:Shanna and Bryan Glazer JCC
CATEGORIES:Other
ATTACH;FMTTYPE=image/png:https://registrytampabay.com/wp-content/uploads/2026/04/download.png
END:VEVENT
BEGIN:VEVENT
DTSTART;TZID=America/New_York:20260523T130000
DTEND;TZID=America/New_York:20260524T210000
DTSTAMP:20260423T191746
CREATED:20260422T200129Z
LAST-MODIFIED:20260422T200129Z
UID:71190-1779541200-1779656400@registrytampabay.com
SUMMARY:Tampa Bay BBQ Festival
DESCRIPTION:What could be better than sitting waterside\, enjoying some smokey barbeque\, sipping on a cold beer\, playing cornhole and listening to some great live bands? \nThe annual Tampa Bay Barbecue Festival at Vinoy Park is a festival full of rich & smoky brisket\, juicy chicken\,\, fall-off-the-bone ribs and delicious craft beer & cocktails. \nFeatures Include – \n> Over 100+ Barbecue Dishes from Florida’s Best Competition Barbecue Teams!\n> Cast you’re vote for Tampa Bay’s Best Barbecue Team!\n> Live Mural Artists\n> Great Craft Beers & Cocktails\n> Live Music by Great Bands & DJ’s | See Schedule\n> Games\, Prizes & Tons of Fun \nBands List Coming Soon!
URL:https://registrytampabay.com/event/tampa-bay-bbq-festival/
LOCATION:Vinoy Park
CATEGORIES:Culinary
ATTACH;FMTTYPE=image/webp:https://registrytampabay.com/wp-content/uploads/2026/04/TB_BBQ26_NavLogo.webp
END:VEVENT
BEGIN:VEVENT
DTSTART;TZID=America/New_York:20260523T193000
DTEND;TZID=America/New_York:20260523T213000
DTSTAMP:20260423T191746
CREATED:20260422T143840Z
LAST-MODIFIED:20260422T143840Z
UID:71153-1779564600-1779571800@registrytampabay.com
SUMMARY:Tampa Bay Rowdies vs Phoenix Rising FC
DESCRIPTION:
URL:https://registrytampabay.com/event/tampa-bay-rowdies-vs-phoenix-rising-fc/
LOCATION:Al Lang Stadium\, 230 1st St. SE St. Petersburg\, FL 33701 United States
CATEGORIES:Health & Wellness,Other
ATTACH;FMTTYPE=image/jpeg:https://registrytampabay.com/wp-content/uploads/2026/04/16528043594_63132afff3_b.jpg
END:VEVENT
BEGIN:VEVENT
DTSTART;TZID=America/New_York:20260605T080000
DTEND;TZID=America/New_York:20260606T170000
DTSTAMP:20260423T191746
CREATED:20260414T182530Z
LAST-MODIFIED:20260414T182530Z
UID:71029-1780646400-1780765200@registrytampabay.com
SUMMARY:Beauty From Ashes "Unleashed" Conference 2026
DESCRIPTION:Experience a premier two-day gathering for women at the Embassy Suites Downtown Tampa. The B4A ‘Unleashed’ Conference is a high-impact event featuring transformative worship\, expert speakers\, and a mission to empower women to rise from their past into a future of beauty and purpose.
URL:https://registrytampabay.com/event/beauty-from-ashes-unleashed-conference-2026/
LOCATION:Embassy Suites by Hilton Tampa Downtown Convention Center
ATTACH;FMTTYPE=image/png:https://registrytampabay.com/wp-content/uploads/2026/04/b4awomenconferencetampa2026.jpg.png
END:VEVENT
BEGIN:VEVENT
DTSTART;VALUE=DATE:20260607
DTEND;VALUE=DATE:20260608
DTSTAMP:20260423T191746
CREATED:20250715T122056Z
LAST-MODIFIED:20250715T122056Z
UID:67923-1780790400-1780876799@registrytampabay.com
SUMMARY:Tampa Bay United Golf Fundraiser
DESCRIPTION:TBU Fundraiser\n\n\nTampa Bay United is proud to announce its inaugural golf tournament\, set to take place on Monday\, June 2\, 2025\, at the prestigious Eagles Golf Course in Tampa\, Florida. \n50% of all money raised through the golf tournament will provide children from families with demonstrated financial need the opportunity to play soccer\, while the remaining 50% will go toward Tampa Bay United’s general fund. Tampa Bay United has long been a cornerstone of the community\, nurturing young talent and offering opportunities for athletes of all ages. \nThe event\, which promises a day of friendly competition and community support\, is made possible by the generous partnership of AdventHealth\, who is the presenting sponsor for the tournament. As a leader in healthcare\, AdventHealth’s commitment to the well-being of the Tampa Bay community aligns with the mission of Tampa Bay United to promote physical activity\, teamwork\, and development opportunities for young athletes. \n“AdventHealth is proud to be the presenting sponsor of the Tampa Bay United Golf Classic. We believe in the power of sports to unite and uplift communities\, and we are excited to contribute to the positive impact made by this event. Together\, we can build a healthier\, more inclusive future for our community.” Said Dean Whaley\, Executive Director of Strategic Partnerships at Advent Health West Florida Division. \nThe tournament will feature a scramble format\, with teams competing for various prizes\, including the coveted first-place trophy. Participants will also enjoy refreshments\, lunch\, and an awards ceremony following the day’s competition.
URL:https://registrytampabay.com/event/tampa-bay-united-golf-fundraiser/
CATEGORIES:Golf
ATTACH;FMTTYPE=image/png:https://registrytampabay.com/wp-content/uploads/2025/07/unnamed-1.png
END:VEVENT
BEGIN:VEVENT
DTSTART;TZID=America/New_York:20260610T190000
DTEND;TZID=America/New_York:20260610T210000
DTSTAMP:20260423T191746
CREATED:20260422T143955Z
LAST-MODIFIED:20260422T143955Z
UID:71154-1781118000-1781125200@registrytampabay.com
SUMMARY:Tampa Bay Rowdies vs Charleston Battery
DESCRIPTION:
URL:https://registrytampabay.com/event/tampa-bay-rowdies-vs-charleston-battery/
LOCATION:Al Lang Stadium\, 230 1st St. SE St. Petersburg\, FL 33701 United States
CATEGORIES:Health & Wellness,Other
ATTACH;FMTTYPE=image/jpeg:https://registrytampabay.com/wp-content/uploads/2026/04/16528043594_63132afff3_b.jpg
END:VEVENT
BEGIN:VEVENT
DTSTART;TZID=America/New_York:20260613T193000
DTEND;TZID=America/New_York:20260613T213000
DTSTAMP:20260423T191746
CREATED:20260422T144124Z
LAST-MODIFIED:20260422T144124Z
UID:71155-1781379000-1781386200@registrytampabay.com
SUMMARY:Tampa Bay Rowdies vs Hartford Athletic
DESCRIPTION:
URL:https://registrytampabay.com/event/tampa-bay-rowdies-vs-hartford-athletic/
LOCATION:Al Lang Stadium\, 230 1st St. SE St. Petersburg\, FL 33701 United States
CATEGORIES:Health & Wellness,Other
ATTACH;FMTTYPE=image/jpeg:https://registrytampabay.com/wp-content/uploads/2026/04/16528043594_63132afff3_b.jpg
END:VEVENT
BEGIN:VEVENT
DTSTART;TZID=America/New_York:20260704T160000
DTEND;TZID=America/New_York:20260704T213000
DTSTAMP:20260423T191746
CREATED:20260422T200345Z
LAST-MODIFIED:20260422T200414Z
UID:71192-1783180800-1783200600@registrytampabay.com
SUMMARY:Liberty by the Bay: Tampa’s 250th Independence Day Celebration¶
DESCRIPTION:The City of Tampa is celebrating America’s 250th anniversary with one of the largest Fourth of July events in Tampa Bay — Liberty by the Bay at Julian B. Lane Park. \nThis free\, family-friendly waterfront celebration will feature a 250-drone light show honoring America’s 250th birthday\, followed by a fireworks finale\, along with an afternoon and evening full of activities\, live entertainment\, food\, and fun for all ages. \nEvent Details \n\nDate: July 4\, 2026\nTime: 4:00 p.m. – 9:30 p.m.\nLocation: Julian B. Lane Park\nCost: Free and open to the public
URL:https://registrytampabay.com/event/liberty-by-the-bay-tampas-250th-independence-day-celebration%c2%b6/
LOCATION:Julian B. Lane Park
CATEGORIES:Arts and Leisure
ATTACH;FMTTYPE=image/jpeg:https://registrytampabay.com/wp-content/uploads/2026/04/liberty-by-the-bay_1.jpg
END:VEVENT
BEGIN:VEVENT
DTSTART;TZID=America/New_York:20260704T180000
DTEND;TZID=America/New_York:20260704T200000
DTSTAMP:20260423T191746
CREATED:20260422T144249Z
LAST-MODIFIED:20260422T144249Z
UID:71156-1783188000-1783195200@registrytampabay.com
SUMMARY:Tampa Bay Rowdies vs Lexington SC
DESCRIPTION:
URL:https://registrytampabay.com/event/tampa-bay-rowdies-vs-lexington-sc/
LOCATION:Al Lang Stadium\, 230 1st St. SE St. Petersburg\, FL 33701 United States
CATEGORIES:Health & Wellness,Other
ATTACH;FMTTYPE=image/jpeg:https://registrytampabay.com/wp-content/uploads/2026/04/16528043594_63132afff3_b.jpg
END:VEVENT
BEGIN:VEVENT
DTSTART;TZID=America/New_York:20260711T193000
DTEND;TZID=America/New_York:20260711T213000
DTSTAMP:20260423T191746
CREATED:20260422T144422Z
LAST-MODIFIED:20260422T144422Z
UID:71157-1783798200-1783805400@registrytampabay.com
SUMMARY:Tampa Bay Rowdies vs FC Naples
DESCRIPTION:
URL:https://registrytampabay.com/event/tampa-bay-rowdies-vs-fc-naples/
LOCATION:Al Lang Stadium\, 230 1st St. SE St. Petersburg\, FL 33701 United States
CATEGORIES:Health & Wellness,Other
ATTACH;FMTTYPE=image/jpeg:https://registrytampabay.com/wp-content/uploads/2026/04/16528043594_63132afff3_b.jpg
END:VEVENT
BEGIN:VEVENT
DTSTART;VALUE=DATE:20260727
DTEND;VALUE=DATE:20260728
DTSTAMP:20260423T191746
CREATED:20260422T200631Z
LAST-MODIFIED:20260422T200631Z
UID:71196-1785110400-1785196799@registrytampabay.com
SUMMARY:727 Day in Pinellas County
DESCRIPTION:
URL:https://registrytampabay.com/event/727-day-in-pinellas-county/
END:VEVENT
BEGIN:VEVENT
DTSTART;TZID=America/New_York:20260801T193000
DTEND;TZID=America/New_York:20260801T213000
DTSTAMP:20260423T191746
CREATED:20260422T144608Z
LAST-MODIFIED:20260422T144608Z
UID:71158-1785612600-1785619800@registrytampabay.com
SUMMARY:Tampa Bay Rowdies vs Louisville City FC
DESCRIPTION:
URL:https://registrytampabay.com/event/tampa-bay-rowdies-vs-louisville-city-fc/
LOCATION:Al Lang Stadium\, 230 1st St. SE St. Petersburg\, FL 33701 United States
CATEGORIES:Health & Wellness,Other
ATTACH;FMTTYPE=image/jpeg:https://registrytampabay.com/wp-content/uploads/2026/04/16528043594_63132afff3_b.jpg
END:VEVENT
BEGIN:VEVENT
DTSTART;TZID=America/New_York:20260815T193000
DTEND;TZID=America/New_York:20260815T213000
DTSTAMP:20260423T191746
CREATED:20260422T144719Z
LAST-MODIFIED:20260422T144719Z
UID:71159-1786822200-1786829400@registrytampabay.com
SUMMARY:Tampa Bay Rowdies vs Rhode Island FC
DESCRIPTION:
URL:https://registrytampabay.com/event/tampa-bay-rowdies-vs-rhode-island-fc/
LOCATION:Al Lang Stadium\, 230 1st St. SE St. Petersburg\, FL 33701 United States
CATEGORIES:Health & Wellness,Other
ATTACH;FMTTYPE=image/jpeg:https://registrytampabay.com/wp-content/uploads/2026/04/16528043594_63132afff3_b.jpg
END:VEVENT
BEGIN:VEVENT
DTSTART;TZID=America/New_York:20260827T170000
DTEND;TZID=America/New_York:20260827T170000
DTSTAMP:20260423T191746
CREATED:20260107T164416Z
LAST-MODIFIED:20260107T164416Z
UID:69906-1787850000-1787850000@registrytampabay.com
SUMMARY:Save the Date: Starlight Gala
DESCRIPTION:Join Us for an Evening of Generosity\n\n\nThursday\, August 27\, 2026\nJW Marriott Water Street\n510 Water Street\, Tampa FL 33602 \nEvent Chair:\nTom Johnston\nCo-Founder/President\, Stability Logistics \nJoin us for a special evening at the Starlight Gala\, AdventHealth West Florida’s signature event benefiting cardiac services. This remarkable evening celebrates the courageous journeys of our patients\, the extraordinary dedication of our healthcare professionals and the innovative treatments that transform lives. At AdventHealth West Florida\, our trusted experts provide comprehensive care that nurtures body\, mind and spirit through every phase of life. From award-winning cardiac care and life-saving interventions to advanced heart treatment and patient-centered support\, our world-class teams are dedicated to helping individuals and families thrive with exceptional\, compassionate care.
URL:https://registrytampabay.com/event/save-the-date-starlight-gala/
CATEGORIES:Charity
ATTACH;FMTTYPE=image/png:https://registrytampabay.com/wp-content/uploads/2026/01/Screenshot-2026-01-07-at-11.42.58-AM.png
END:VEVENT
BEGIN:VEVENT
DTSTART;TZID=America/New_York:20260905T193000
DTEND;TZID=America/New_York:20260905T210000
DTSTAMP:20260423T191746
CREATED:20260422T145001Z
LAST-MODIFIED:20260422T145001Z
UID:71161-1788636600-1788642000@registrytampabay.com
SUMMARY:Tampa Bay Rowdies vs Birmingham Legion FC
DESCRIPTION:
URL:https://registrytampabay.com/event/tampa-bay-rowdies-vs-birmingham-legion-fc/
LOCATION:Al Lang Stadium\, 230 1st St. SE St. Petersburg\, FL 33701 United States
CATEGORIES:Health & Wellness,Other
ATTACH;FMTTYPE=image/jpeg:https://registrytampabay.com/wp-content/uploads/2026/04/16528043594_63132afff3_b.jpg
END:VEVENT
BEGIN:VEVENT
DTSTART;TZID=America/New_York:20260905T193000
DTEND;TZID=America/New_York:20260905T213000
DTSTAMP:20260423T191746
CREATED:20260422T144829Z
LAST-MODIFIED:20260422T144829Z
UID:71160-1788636600-1788643800@registrytampabay.com
SUMMARY:Tampa Bay Rowdies vs Brooklyn FC
DESCRIPTION:
URL:https://registrytampabay.com/event/tampa-bay-rowdies-vs-brooklyn-fc/
LOCATION:Al Lang Stadium\, 230 1st St. SE St. Petersburg\, FL 33701 United States
CATEGORIES:Health & Wellness,Other
ATTACH;FMTTYPE=image/jpeg:https://registrytampabay.com/wp-content/uploads/2026/04/16528043594_63132afff3_b.jpg
END:VEVENT
BEGIN:VEVENT
DTSTART;TZID=America/New_York:20261003T180000
DTEND;TZID=America/New_York:20261003T200000
DTSTAMP:20260423T191746
CREATED:20260311T164534Z
LAST-MODIFIED:20260311T164534Z
UID:70676-1791050400-1791057600@registrytampabay.com
SUMMARY:The Crystal Gala
DESCRIPTION:Please join the Florida Cancer Specialists Foundation for an elegant evening filled with light and shimmer in a celebration of hope and healing we’ll join together to honor Lucio Gordan\, MD\, President & Managing Physician\, Florida Cancer Specialists & Research Institute\, and in celebration of the Foundation’s 15th Anniversary. \nUnder the leadership of Event Co-Chairs Jaqueline R. Ambrose\, General Counsel Florida Cancer Specialists & Research Institute\, and David Wenk\, MD\, Assistant Managing Physician\, Florida Cancer Specialists & Research Institute we’ll join together for dinner\, cocktails\, live and silent auctions. \nPresented by Bristol Myers Squibb.
URL:https://registrytampabay.com/event/the-crystal-gala/
LOCATION:Armature Works
CATEGORIES:Charity
ATTACH;FMTTYPE=image/png:https://registrytampabay.com/wp-content/uploads/2026/03/The-Crystal-Gala-Hero-3.png
END:VEVENT
BEGIN:VEVENT
DTSTART;TZID=America/New_York:20261003T193000
DTEND;TZID=America/New_York:20261003T213000
DTSTAMP:20260423T191746
CREATED:20260422T145244Z
LAST-MODIFIED:20260422T145244Z
UID:71162-1791055800-1791063000@registrytampabay.com
SUMMARY:Tampa Bay Rowdies vs Miami FC
DESCRIPTION:
URL:https://registrytampabay.com/event/tampa-bay-rowdies-vs-miami-fc/
LOCATION:Al Lang Stadium\, 230 1st St. SE St. Petersburg\, FL 33701 United States
CATEGORIES:Health & Wellness,Other
ATTACH;FMTTYPE=image/jpeg:https://registrytampabay.com/wp-content/uploads/2026/04/16528043594_63132afff3_b.jpg
END:VEVENT
BEGIN:VEVENT
DTSTART;TZID=America/New_York:20261016T070000
DTEND;TZID=America/New_York:20261016T130000
DTSTAMP:20260423T191746
CREATED:20260107T183703Z
LAST-MODIFIED:20260107T183703Z
UID:69927-1792134000-1792155600@registrytampabay.com
SUMMARY:Save the Date: 8th Annual Inshore Fishing Classic
DESCRIPTION:Join us for a Day of Fishing and Fun\n\n\nThis year’s tournament will be held on Friday\, October 16 from 7am. Afterward\, anglers and their guests can join us for the Captain’s Party at noon where we’ll hand out prizes for snook\, redfish\, and trout. Breakfast and lunch will be provided. Bring your friends\, family\, colleagues\, or business clients – kids are welcome\, too! \n\n\n\n\n\n\nYour Impact\n\n\nWondering what your support means to the thousands of children and families we serve every year? Hear it straight from them.
URL:https://registrytampabay.com/event/save-the-date-8th-annual-inshore-fishing-classic/
CATEGORIES:Charity
ATTACH;FMTTYPE=image/png:https://registrytampabay.com/wp-content/uploads/2026/01/9c74154d-b1ec-4e04-b241-bfb0fd757bd9.png
END:VEVENT
BEGIN:VEVENT
DTSTART;TZID=America/New_York:20261017T193000
DTEND;TZID=America/New_York:20261017T213000
DTSTAMP:20260423T191746
CREATED:20260422T145425Z
LAST-MODIFIED:20260422T145425Z
UID:71163-1792265400-1792272600@registrytampabay.com
SUMMARY:Tampa Bay Rowdies vs Detroit City FC
DESCRIPTION:
URL:https://registrytampabay.com/event/tampa-bay-rowdies-vs-detroit-city-fc/
LOCATION:Al Lang Stadium\, 230 1st St. SE St. Petersburg\, FL 33701 United States
CATEGORIES:Health & Wellness,Other
ATTACH;FMTTYPE=image/jpeg:https://registrytampabay.com/wp-content/uploads/2026/04/16528043594_63132afff3_b.jpg
END:VEVENT
BEGIN:VEVENT
DTSTART;TZID=America/New_York:20261024T193000
DTEND;TZID=America/New_York:20261024T213000
DTSTAMP:20260423T191746
CREATED:20260422T145634Z
LAST-MODIFIED:20260422T145634Z
UID:71164-1792870200-1792877400@registrytampabay.com
SUMMARY:Tampa Bay Rowdies vs Sporting Jax
DESCRIPTION:
URL:https://registrytampabay.com/event/tampa-bay-rowdies-vs-sporting-jax/
LOCATION:Al Lang Stadium\, 230 1st St. SE St. Petersburg\, FL 33701 United States
CATEGORIES:Health & Wellness,Other
ATTACH;FMTTYPE=image/jpeg:https://registrytampabay.com/wp-content/uploads/2026/04/16528043594_63132afff3_b.jpg
END:VEVENT
END:VCALENDAR