BEGIN:VCALENDAR
VERSION:2.0
PRODID:-//Registry Tampa Bay - ECPv6.15.20//NONSGML v1.0//EN
CALSCALE:GREGORIAN
METHOD:PUBLISH
X-ORIGINAL-URL:https://registrytampabay.com
X-WR-CALDESC:Events for Registry Tampa Bay
REFRESH-INTERVAL;VALUE=DURATION:PT1H
X-Robots-Tag:noindex
X-PUBLISHED-TTL:PT1H
BEGIN:VTIMEZONE
TZID:America/New_York
BEGIN:DAYLIGHT
TZOFFSETFROM:-0500
TZOFFSETTO:-0400
TZNAME:EDT
DTSTART:20250309T070000
END:DAYLIGHT
BEGIN:STANDARD
TZOFFSETFROM:-0400
TZOFFSETTO:-0500
TZNAME:EST
DTSTART:20251102T060000
END:STANDARD
BEGIN:DAYLIGHT
TZOFFSETFROM:-0500
TZOFFSETTO:-0400
TZNAME:EDT
DTSTART:20260308T070000
END:DAYLIGHT
BEGIN:STANDARD
TZOFFSETFROM:-0400
TZOFFSETTO:-0500
TZNAME:EST
DTSTART:20261101T060000
END:STANDARD
BEGIN:DAYLIGHT
TZOFFSETFROM:-0500
TZOFFSETTO:-0400
TZNAME:EDT
DTSTART:20270314T070000
END:DAYLIGHT
BEGIN:STANDARD
TZOFFSETFROM:-0400
TZOFFSETTO:-0500
TZNAME:EST
DTSTART:20271107T060000
END:STANDARD
END:VTIMEZONE
BEGIN:VEVENT
DTSTART;TZID=America/New_York:20260304T110000
DTEND;TZID=America/New_York:20260304T130000
DTSTAMP:20260425T081254
CREATED:20260227T145709Z
LAST-MODIFIED:20260227T145709Z
UID:70537-1772622000-1772629200@registrytampabay.com
SUMMARY:The Mama Circle
DESCRIPTION:Babies and toddlers are welcome!\nMotherhood is beautiful\, but it’s also messy\, emotional\, and full of moments no one prepares you for. Whether you’re pregnant\, holding a newborn\, or chasing toddlers\, you deserve a space to exhale\, be heard\, and feel supported.\nJoin this free weekly online peer support group\, created for pregnant women\, new moms\, and moms of young children\, and led by an experienced social worker and fellow mama. This is a safe\, judgment-free space where real talk is welcome.\nKeep in mind this is not therapy. It’s peer support\, mom to mom facilitated by an experienced social worker mama. Come as you are\, whether you’re still expecting\, recovering postpartum\, or in the thick of toddler life.
URL:https://registrytampabay.com/event/the-mama-circle/
LOCATION:THE KATHY CASTOR CENTRE FOR COUNSELING AND WELLNESS\, 105 W. Sligh Ave
CATEGORIES:Health & Wellness
ATTACH;FMTTYPE=image/png:https://registrytampabay.com/wp-content/uploads/2026/02/Screenshot-2026-02-27-at-9.56.34-AM.png
END:VEVENT
BEGIN:VEVENT
DTSTART;TZID=America/New_York:20260305T190000
DTEND;TZID=America/New_York:20260305T210000
DTSTAMP:20260425T081254
CREATED:20260217T012135Z
LAST-MODIFIED:20260217T012135Z
UID:70427-1772737200-1772744400@registrytampabay.com
SUMMARY:Powerstories 6th Annual Voicesof Women Theatre Festival
DESCRIPTION:The 2026 Voices of Women Theatre Festival will present four unforgettable nights of storytelling on stage. Audiences will experience three evenings of full‑length staged readings in two categories\, General and Women Playwrights Over 40\, spotlighting powerful new works by women playwrights. A dedicated night of bold and surprising ten‑minute plays will round out the performance lineup. \nThe festival will also feature performances by Seek and Speak Your Powerstory 2025 participants\, a mini Seek and Speak Your Powerstory\, and workshops designed to inspire both new and veteran playwrights as they develop their craft and share their voices.
URL:https://registrytampabay.com/event/powerstories-6th-annual-voicesof-women-theatre-festival/
LOCATION:Hillsborough College Theatre
CATEGORIES:Arts and Leisure,Charity
ATTACH;FMTTYPE=image/png:https://registrytampabay.com/wp-content/uploads/2026/02/facebook_vow_hcc.png
END:VEVENT
BEGIN:VEVENT
DTSTART;TZID=America/New_York:20260312T180000
DTEND;TZID=America/New_York:20260312T200000
DTSTAMP:20260425T081254
CREATED:20260311T164810Z
LAST-MODIFIED:20260311T164810Z
UID:70679-1773338400-1773345600@registrytampabay.com
SUMMARY:Schrader Double Diamond Wine Dinner
DESCRIPTION:Join us for March 12th at 6:00PM for an exclusive four course wine dinner hosted by Andrew Bradbury\, Global Ambassador for Schrader Cellars\, Double Diamond\, and To Kalon Vineyard Company. \nThis intimate pairing experience brings together a thoughtfully curated chef driven menu and exceptional wines from some of Napa Valley’s most respected producers\, offering a refined evening centered on craftsmanship\, terroir\, and balance. \nEach course is carefully designed to complement the depth and structure of these celebrated Cabernet Sauvignon selections\, creating a seamless progression of food and wine that is both elegant and expressive.\nGuided by Andrew Bradbury’s insight and expertise\, guests will explore the stories behind the vineyards\, winemaking philosophy\, and distinctive character that define these acclaimed labels.\nPerfect for collectors\, Cabernet enthusiasts\, and Birchwood regulars\, this exclusive wine dinner promises a polished and engaging dining experience in an intimate setting.
URL:https://registrytampabay.com/event/schrader-double-diamond-wine-dinner/
LOCATION:Birch and Vine
CATEGORIES:Culinary
ATTACH;FMTTYPE=image/png:https://registrytampabay.com/wp-content/uploads/2026/03/scrhader_double_diamond_dinner.png
END:VEVENT
BEGIN:VEVENT
DTSTART;TZID=America/New_York:20260314T110000
DTEND;TZID=America/New_York:20260314T170000
DTSTAMP:20260425T081254
CREATED:20250715T134100Z
LAST-MODIFIED:20250715T134100Z
UID:67935-1773486000-1773507600@registrytampabay.com
SUMMARY:Annual Classic Car Show
DESCRIPTION:The Annual Classic Car Show\, hosted by Quail Run RV Resort\, is an exciting event that invites car enthusiasts from all over the United States to showcase their vehicles in a vibrant and lively atmosphere.
URL:https://registrytampabay.com/event/annual-classic-car-show/
CATEGORIES:Automotive
ATTACH;FMTTYPE=image/jpeg:https://registrytampabay.com/wp-content/uploads/2025/07/images-1.jpeg
END:VEVENT
BEGIN:VEVENT
DTSTART;TZID=America/New_York:20260314T183000
DTEND;TZID=America/New_York:20260314T203000
DTSTAMP:20260425T081254
CREATED:20260224T164804Z
LAST-MODIFIED:20260224T164901Z
UID:70510-1773513000-1773520200@registrytampabay.com
SUMMARY:Eight O'Clock Theatre Annual Ball
DESCRIPTION:For more than 40 years\, Eight O’Clock Theatre has been a place where stories come to life—onstage and off. What began as a small group of passionate volunteers has grown into a vibrant community where artists\, audiences\, and neighbors come together to celebrate creativity\, connection\, and courage. \nThe Annual Ball is more than just a night of music\, dancing\, and sparkle. It’s a chance to invest in the magic that happens here every day: first-time performers finding their voice\, seasoned artists mentoring the next generation\, and audiences discovering moments that stay with them long after the curtain falls. \nWhen you attend the Ball or give in support\, you’re not just buying a ticket—you’re helping ensure that our stage remains a home for bold stories\, diverse voices\, and unforgettable experiences in the heart of our community.
URL:https://registrytampabay.com/event/70510/
LOCATION:Eight O’Clock Theatre
CATEGORIES:Charity
ATTACH;FMTTYPE=image/png:https://registrytampabay.com/wp-content/uploads/2026/02/Logo-White-Gold.png
END:VEVENT
BEGIN:VEVENT
DTSTART;VALUE=DATE:20260317
DTEND;VALUE=DATE:20260323
DTSTAMP:20260425T081254
CREATED:20250715T114419Z
LAST-MODIFIED:20260317T161456Z
UID:67914-1773705600-1774223999@registrytampabay.com
SUMMARY:Valspar: The Most Colorful PGA TOUR® Tournament in the World
DESCRIPTION:The Valspar Championship brings the world’s top-ranked golfers and unforgettable fan experiences to the Copperhead Course at Innisbrook Golf Resort\, a Salamander Golf & Spa Resort. Fans of all ages can enjoy four rounds of championship golf and a variety of on-site activities. \n\n\nThe 2026 Valspar Championship marks 50 years of Copperhead Charities and 25 years of PGA TOUR® golf in Tampa Bay. Join the celebration in the months leading up to the tournament and throughout tournament week with special activations\, on-course surprises and milestone moments shared across our social channels. \n\n\nNamed the PGA TOUR’s most “Fan-First Tournament\,” the Valspar Championship offers a variety of public experiences\, including the Michelob ULTRA Club (10th tee)\, Frenchy’s Pool Party (near the 18th green)\, Cabot Cheese Deck (13th green) and Famous Tate Fan Seating (18th green). \n\n\nDon’t miss country stars Tyler Hubbard and Lee Brice as they co-headline Valspar® LIVE presented by Chick-fil-A on Saturday\, March 21\, following play at approximately 6:30 p.m. Concert access is included with your Saturday tournament ticket — no additional purchase required. \n\n\nAll week long\, children 15 and under are admitted free to the grounds with a paid adult. \n\n\nGet ready for a week full of elite competition\, vibrant energy and can’t-miss moments both on and off the course!” \n\n\n 
URL:https://registrytampabay.com/event/valspar-championship-march-16-22-2026/
LOCATION:Innisbrook Resort
CATEGORIES:Golf
ATTACH;FMTTYPE=image/jpeg:https://registrytampabay.com/wp-content/uploads/2025/07/ViktorHovland_getty2206566355_wLogos-scaled.jpg
END:VEVENT
BEGIN:VEVENT
DTSTART;TZID=America/New_York:20260321T160000
DTEND;TZID=America/New_York:20260321T193000
DTSTAMP:20260425T081254
CREATED:20260311T164157Z
LAST-MODIFIED:20260311T164157Z
UID:70673-1774108800-1774121400@registrytampabay.com
SUMMARY:Youth Baseball Clinic
DESCRIPTION:Fourth Annual Youth Baseball Clinic for kids ages 7 to 12 at Fossil Park Sports Complex in St Petersburg on Saturday\, March 21 from 4:00 to 7:30 pm. Led by 1982 World Series Champion John Stuper. $5 registration. Scholarships available. Serving North St Petersburg neighborhoods and welcoming families across Tampa Bay. Register by March 18 at gulfcoast.community/baseball. Hosted by Gulf Coast Community Church as part of our commitment to serve and invest in families throughout St Petersburg.
URL:https://registrytampabay.com/event/youth-baseball-clinic/
LOCATION:Fossil Park Sports Complex
CATEGORIES:Other
ATTACH;FMTTYPE=image/jpeg:https://registrytampabay.com/wp-content/uploads/2026/03/2026_baseball__wide.jpg
END:VEVENT
BEGIN:VEVENT
DTSTART;TZID=America/New_York:20260327T073000
DTEND;TZID=America/New_York:20260327T170000
DTSTAMP:20260425T081254
CREATED:20260107T164107Z
LAST-MODIFIED:20260107T164107Z
UID:69903-1774596600-1774630800@registrytampabay.com
SUMMARY:Fishing Tournament
DESCRIPTION:We invite you to cast your reels in support of innovative health care with our community partners and AdventHealth leaders. Coming together supports life-changing cardiac programs and services throughout local AdventHealth hospitals. You can look forward to a day of fishing followed by a relaxing post-event celebration featuring lunch\, awards and live entertainment. \nTo guarantee recognition on event signage\, please secure your spot by February 28
URL:https://registrytampabay.com/event/fishing-tournament/
CATEGORIES:Charity
ATTACH;FMTTYPE=image/webp:https://registrytampabay.com/wp-content/uploads/2026/01/fishing25-8.png.webp
END:VEVENT
BEGIN:VEVENT
DTSTART;TZID=America/New_York:20260327T093000
DTEND;TZID=America/New_York:20260327T113000
DTSTAMP:20260425T081254
CREATED:20260210T201443Z
LAST-MODIFIED:20260210T201443Z
UID:70342-1774603800-1774611000@registrytampabay.com
SUMMARY:The Masterpiece in Progress
DESCRIPTION:A Women’s History Month Brunch\nHosted by W.I.S.H. and Feeding Tampa Bay\nin partnership with Fe League.\nProgress is shaped in moments like this—\nwhen leadership\, alignment\, and shared responsibility\ncome together to determine what’s next.\nJoin us for a community gathering featuring a Fe League\nmoderated conversation that centers on leadership at pivotal\nmoments—where decisions\, partnerships\, and action shape\nwomen’s leadership and advance impact.
URL:https://registrytampabay.com/event/the-masterpiece-in-progress/
LOCATION:3624 Causeway Blvd\, 3624 Causeway Blvd\, Tampa\, FL
CATEGORIES:Charity
ATTACH;FMTTYPE=application/pdf:https://registrytampabay.com/wp-content/uploads/2026/02/W.I.S.H.-new-date-March-27-2026.pdf
ORGANIZER;CN="Feeding Tampa Bay":MAILTO:jrodriguez@feedingtampabay.org
END:VEVENT
BEGIN:VEVENT
DTSTART;TZID=America/New_York:20260328T180000
DTEND;TZID=America/New_York:20260328T210000
DTSTAMP:20260425T081254
CREATED:20260107T182921Z
LAST-MODIFIED:20260107T182921Z
UID:69922-1774720800-1774731600@registrytampabay.com
SUMMARY:Save the Date: CASA's 2026 Spring Gala
DESCRIPTION:CASA’s Annual Spring Gala is returning to the stunning Museum of the American Arts and Crafts Movement on Saturday\, March 28\, 2026. Mark your calendar and start dreaming — this will be a night to remember.
URL:https://registrytampabay.com/event/save-the-date-casas-2026-spring-gala/
LOCATION:Museum of the American Arts and Crafts Movement\, 355 4th St N\, St. Petersburg
CATEGORIES:Charity
ATTACH;FMTTYPE=image/svg+xml:https://registrytampabay.com/wp-content/uploads/2026/01/casa-stpete-logo.svg
END:VEVENT
BEGIN:VEVENT
DTSTART;TZID=America/New_York:20260329T080000
DTEND;TZID=America/New_York:20260329T110000
DTSTAMP:20260425T081254
CREATED:20250714T202025Z
LAST-MODIFIED:20250715T120037Z
UID:67912-1774771200-1774782000@registrytampabay.com
SUMMARY:Tampa Bay Cuban Sandwich Festival
DESCRIPTION:15TH Annual Cuban Sandwich Festival\n\n\n15th Annual Cuban Sandwich Festival\nSunday\, March 29th\, 2026\nYBOR CITY; CENTENNIAL PARK\n3 City Streets\, 1 City Park PLUS VIP Area is in the Ybor City Museum Garden\n\nFOODIES
URL:https://registrytampabay.com/event/tampa-bay-cuban-sandwich-festival/
CATEGORIES:Culinary
ATTACH;FMTTYPE=image/jpeg:https://registrytampabay.com/wp-content/uploads/2025/07/ciban-sandwich-festival.jpg
END:VEVENT
END:VCALENDAR